Workbook

Sheet Cover sheet and methodology
A1: LabourList/Survation Labour Members Snap Poll
A2: Prepared by Survation on behalf of LabourList
A11: Methodology | F11: Data Weighting
F12: Data were weighted to the profile of Labour Party Members. Data were weighted by region, sex, age group, and 2025 deputy leadership vote.
A13: Fieldwork Dates | F13: Targets for weighting were drawn from the British Election Study and election results.
A14: 28th - 29th October 2026
F15: Margin of Error
F16: Because only a sample of the full population was interviewed, all results are subject to margin of error, meaning that not all differences are statistically significant.
A17: Data Collection Method | F17: For example, in a question where 50% (the worst case scenario as far as margin of error is concerned) gave a particular answer, with a sample of 876 it is 95% certain that the ‘true’ value will fall within the range of 4% from the sample result.
A18: The survey was conducted via online interview. | F18: Subsamples from the cross-breaks will be subject to higher margin of error, conclusions drawn from crossbreaks with very small sub-samples should be treated with caution.
A19: Invitations to complete surveys were sent
A20: to LabourList readers | F20: Question presentation
F21: All data tables are shown in full, in the order and wording put to respondents, including but not limited to all tables relating to published data and all relevant tables preceding them.
F22: Tables for demographic questions might not be included but these should be clear from the cross-breaks on published tables.
A23: Population Sampled | F23: In all questions where the responses are a list of parties, names or statements, these will typically have been displayed to respondents in a randomising order.
A24: Labour Party Members | F24: The only questions which would not have had randomising responses would be those in which there was a natural order to maintain. Scale questions were randomly alternated for each respondent from positive to negative and vice-versa.
F25: – e.g. a scale from “Very important” to “Not at all important”, a list of numbers from 0 to 10 or questions which had factual rather than opinion-related answers such as demographic information. “Other”, “Don't know” and “Refused” responses are not randomised.
A26: Sample Size
A27: 876 | F27: Not all questions will have necessarily been asked to all respondents – this is because they may be follow-on questions from previous questions or only appropriate to certain demographic groups.
F28: Lower response counts should make clear where this has occurred.
F30: Data were analysed and weighted by Survation.
F32: For further information please contact:
F34: researchteam@survation.com
F37: If you are interested in commissioning a poll from us, please contact researchteam@survation.com for a
F38: prompt response to your enquiry and we'll call you right back with the appropriate person.
F40: Sign up for our press releases at http://eepurl.com/mOK8T
F42: Follow us on twitter:
F44: Survation is a Market Research Society company partner. Survation is a member of the British Polling Council and abides by its rules.
F45: http://www.britishpollingcouncil.org
F46: Survation Ltd Registered in England & Wales Number 07143509

Sheet Contents
A1: Table | B1: Question | C1: Base | D1: Anchor
A2: =HYPERLINK("#Tables!"&ADDRESS(MATCH(D2,Tables!$BF:$BF,0),1),D2) -> Table_Q1 | B2: To what extent, if at all, do you support or oppose John Healey’s Budget? | C2: All respondents | D2: Table_Q1
A3: =HYPERLINK("#Tables!"&ADDRESS(MATCH(D3,Tables!$BF:$BF,0),1),D3) -> Table_Q2 | B3: To what extent, if at all, do you support or oppose scrapping gas standing charges from next year? | C3: All respondents | D3: Table_Q2
A4: =HYPERLINK("#Tables!"&ADDRESS(MATCH(D4,Tables!$BF:$BF,0),1),D4) -> Table_Q3 | B4: To what extent, if at all, do you support or oppose moving the cost of more green schemes from energy bills to general taxation? | C4: All respondents | D4: Table_Q3
A5: =HYPERLINK("#Tables!"&ADDRESS(MATCH(D5,Tables!$BF:$BF,0),1),D5) -> Table_Q4 | B5: To what extent, if at all, do you support or oppose the announcement to give 20 million households a £100 household energy payment? | C5: All respondents | D5: Table_Q4
A6: =HYPERLINK("#Tables!"&ADDRESS(MATCH(D6,Tables!$BF:$BF,0),1),D6) -> Table_Q5 | B6: To what extent, if at all, do you support or oppose raising the threshold at which small businesses start paying business rates? | C6: All respondents | D6: Table_Q5
A7: =HYPERLINK("#Tables!"&ADDRESS(MATCH(D7,Tables!$BF:$BF,0),1),D7) -> Table_Q6 | B7: To what extent, if at all, do you support or oppose the decision to grant metro mayors the power to introduce overnight visitor levies to fund local areas? | C7: All respondents | D7: Table_Q6
A8: =HYPERLINK("#Tables!"&ADDRESS(MATCH(D8,Tables!$BF:$BF,0),1),D8) -> Table_Q7 | B8: To what extent, if at all, do you support or oppose temporarily increasing the corporation tax surcharge on the banking sector from 3% to 6% for the next 15 months to fund measures to reduce energy bills? | C8: All respondents | D8: Table_Q7
A9: =HYPERLINK("#Tables!"&ADDRESS(MATCH(D9,Tables!$BF:$BF,0),1),D9) -> Table_Q8 | B9: To what extent, if at all, do you support or oppose implementing a new tax allowance for low-income pensioners? | C9: All respondents | D9: Table_Q8
A10: =HYPERLINK("#Tables!"&ADDRESS(MATCH(D10,Tables!$BF:$BF,0),1),D10) -> Table_Q9 | B10: The Budget’s tax revenue forecasts assume the Rosebank oil field in the North Sea will be approved. Supporters say it would raise tax revenue and support jobs and energy security. Opponents say it would increase carbon emissions and undermine the UK’s climate targets. To what extent, if at all, would you support or oppose the government approving development of the Rosebank oil field? | C10: All respondents | D10: Table_Q9
A11: =HYPERLINK("#Tables!"&ADDRESS(MATCH(D11,Tables!$BF:$BF,0),1),D11) -> Table_Q10 | B11: Thinking about how today’s Budget reflects on the Labour party, which of these statements comes closer to your view? | C11: All respondents | D11: Table_Q10
A12: =HYPERLINK("#Tables!"&ADDRESS(MATCH(D12,Tables!$BF:$BF,0),1),D12) -> Table_Q11 | B12: After hearing today’s Budget, how has your view of Andy Burnham and John Healey’s leadership changed, if at all? | C12: All respondents | D12: Table_Q11
A13: =HYPERLINK("#Tables!"&ADDRESS(MATCH(D13,Tables!$BF:$BF,0),1),D13) -> Table_Q12 | B13: Thinking about the next General Election, which of the following statements comes closest to your view? | C13: All respondents | D13: Table_Q12

Sheet Tables
A1: =HYPERLINK("#Contents!A1","Contents") -> Contents
A2: Table_Q1. To what extent, if at all, do you support or oppose John Healey’s Budget? | BF2: Table_Q1
A3: Base: All respondents
B5: Total | C5: Sex | E5: Age | J5: 2020 Leadership Election Vote | M5: Member since | Q5: Involvement | T5: Region | AF5: Highest Qualification | AJ5: Household Income | AM5: EU2016 | AO5: Deputy Leader Vote 2025
C6: Female | D6: Male | E6: 18-34 | F6: 35-44 | G6: 45-54 | H6: 55-64 | I6: 65+ | J6: Keir Starmer | K6: Rebecca Long-Bailey | L6: Lisa Nandy | M6: 2020 | N6: 2015 | O6: 2010 | P6: Before 2010 | Q6: Attends local meetings regularly | R6: Campaigns Occasionally | S6: Does not actively participate | T6: East Midlands | U6: East of England | V6: London | W6: North East | X6: North West | Y6: South East | Z6: South West | AA6: West Midlands | AB6: Yorkshire and The Humber | AC6: England | AD6: Scotland | AE6: Wales | AF6: No Quals/Level 1 | AG6: Level 2/Apprenticeship/Other | AH6: Level 3 | AI6: Level 4+ | AJ6: £0-£19,999 | AK6: £20,000-£39,999 | AL6: £40,000+ | AM6: Leave | AN6: Remain | AO6: Lucy Powell | AP6: Bridget Phillipson
A7: Unweighted Total | B7: 876 | C7: 296 | D7: 580 | E7: 46 | F7: 47 | G7: 58 | H7: 163 | I7: 562 | J7: 501 | K7: 120 | L7: 154 | M7: 52 | N7: 159 | O7: 136 | P7: 490 | Q7: 416 | R7: 193 | S7: 267 | T7: 44 | U7: 64 | V7: 212 | W7: 35 | X7: 102 | Y7: 113 | Z7: 79 | AA7: 57 | AB7: 89 | AC7: 795 | AD7: 36 | AE7: 28 | AF7: 29 | AG7: 31 | AH7: 32 | AI7: 784 | AJ7: 91 | AK7: 237 | AL7: 548 | AM7: 52 | AN7: 790 | AO7: 483 | AP7: 226
A8: Weighted Total | B8: 876 | C8: 385 | D8: 491 | E8: 144 | F8: 101 | G8: 110 | H8: 146 | I8: 375 | J8: 480 | K8: 107 | L8: 172 | M8: 65 | N8: 166 | O8: 187 | P8: 420 | Q8: 449 | R8: 195 | S8: 232 | T8: 69 | U8: 60 | V8: 155 | W8: 34 | X8: 121 | Y8: 95 | Z8: 78 | AA8: 86 | AB8: 60 | AC8: 758 | AD8: 43 | AE8: 60 | AF8: 20 | AG8: 34 | AH8: 27 | AI8: 795 | AJ8: 103 | AK8: 222 | AL8: 551 | AM8: 48 | AN8: 773 | AO8: 380 | AP8: 330
A9: Strongly support | B9: 409 | C9: 192 | D9: 217 | E9: 56 | F9: 33 | G9: 62 | H9: 74 | I9: 185 | J9: 256 | K9: 29 | L9: 69 | M9: 27 | N9: 64 | O9: 84 | P9: 208 | Q9: 228 | R9: 90 | S9: 91 | T9: 34 | U9: 32 | V9: 48 | W9: 19 | X9: 65 | Y9: 58 | Z9: 24 | AA9: 40 | AB9: 30 | AC9: 349 | AD9: 21 | AE9: 36 | AF9: 6 | AG9: 14 | AH9: 14 | AI9: 376 | AJ9: 31 | AK9: 115 | AL9: 264 | AM9: 16 | AN9: 367 | AO9: 174 | AP9: 158
B10: 0.4672 | C10: 0.499 | D10: 0.4422 | E10: 0.3913 | F10: 0.3232 | G10: 0.5612 | H10: 0.5022 | I10: 0.4938 | J10: 0.5334 | K10: 0.2733 | L10: 0.3993 | M10: 0.4118 | N10: 0.3863 | O10: 0.4489 | P10: 0.4954 | Q10: 0.5081 | R10: 0.4597 | S10: 0.3939 | T10: 0.4898 | U10: 0.5331 | V10: 0.3066 | W10: 0.5433 | X10: 0.5378 | Y10: 0.6078 | Z10: 0.3151 | AA10: 0.4684 | AB10: 0.4938 | AC10: 0.4606 | AD10: 0.4844 | AE10: 0.593 | AF10: 0.2937 | AG10: 0.4077 | AH10: 0.522 | AI10: 0.4723 | AJ10: 0.3012 | AK10: 0.516 | AL10: 0.4784 | AM10: 0.3375 | AN10: 0.4745 | AO10: 0.4586 | AP10: 0.4786
A11: Somewhat support | B11: 375 | C11: 160 | D11: 215 | E11: 75 | F11: 46 | G11: 35 | H11: 61 | I11: 157 | J11: 188 | K11: 51 | L11: 89 | M11: 29 | N11: 80 | O11: 87 | P11: 169 | Q11: 175 | R11: 85 | S11: 115 | T11: 29 | U11: 23 | V11: 84 | W11: 14 | X11: 48 | Y11: 26 | Z11: 39 | AA11: 36 | AB11: 25 | AC11: 325 | AD11: 16 | AE11: 25 | AF11: 5 | AG11: 17 | AH11: 13 | AI11: 340 | AJ11: 54 | AK11: 90 | AL11: 230 | AM11: 19 | AN11: 332 | AO11: 171 | AP11: 138
B12: 0.4277 | C12: 0.4153 | D12: 0.4374 | E12: 0.5217 | F12: 0.4606 | G12: 0.3152 | H12: 0.4176 | I12: 0.4197 | J12: 0.3911 | K12: 0.4812 | L12: 0.516 | M12: 0.438 | N12: 0.4819 | O12: 0.4635 | P12: 0.403 | Q12: 0.3886 | R12: 0.4351 | S12: 0.4975 | T12: 0.4195 | U12: 0.3828 | V12: 0.5426 | W12: 0.3974 | X12: 0.4019 | Y12: 0.272 | Z12: 0.5081 | AA12: 0.4157 | AB12: 0.4212 | AC12: 0.4283 | AD12: 0.3786 | AE12: 0.407 | AF12: 0.2565 | AG12: 0.4913 | AH12: 0.4711 | AI12: 0.4278 | AJ12: 0.5252 | AK12: 0.4066 | AL12: 0.4181 | AM12: 0.3982 | AN12: 0.4296 | AO12: 0.4495 | AP12: 0.4169
A13: Neither support nor oppose | B13: 57 | C13: 25 | D13: 32 | E13: 6 | F13: 9 | G13: 11 | H13: 9 | I13: 22 | J13: 25 | K13: 17 | L13: 8 | M13: 5 | N13: 16 | O13: 10 | P13: 25 | Q13: 24 | R13: 12 | S13: 21 | T13: 1 | U13: 4 | V13: 17 | W13: 2 | X13: 4 | Y13: 5 | Z13: 4 | AA13: 9 | AB13: 5 | AC13: 49 | AD13: 6 | AE13: 0 | AF13: 5 | AG13: 2 | AH13: 0 | AI13: 49 | AJ13: 10 | AK13: 12 | AL13: 35 | AM13: 6 | AN13: 46 | AO13: 24 | AP13: 21
B14: 0.0655 | C14: 0.0653 | D14: 0.0656 | E14: 0.0435 | F14: 0.0917 | G14: 0.0997 | H14: 0.0631 | I14: 0.0578 | J14: 0.0525 | K14: 0.1637 | L14: 0.0436 | M14: 0.0774 | N14: 0.0995 | O14: 0.0523 | P14: 0.06 | Q14: 0.0539 | R14: 0.0621 | S14: 0.0908 | T14: 0.0095 | U14: 0.0668 | V14: 0.1078 | W14: 0.047 | X14: 0.0294 | Y14: 0.0525 | Z14: 0.0546 | AA14: 0.1019 | AB14: 0.0816 | AC14: 0.0652 | AD14: 0.137 | AE14: - | AF14: 0.2655 | AG14: 0.0712 | AH14: 0.0069 | AI14: 0.0622 | AJ14: 0.0949 | AK14: 0.0562 | AL14: 0.0637 | AM14: 0.1222 | AN14: 0.0599 | AO14: 0.0618 | AP14: 0.0632
A15: Somewhat oppose | B15: 22 | C15: 5 | D15: 17 | E15: 3 | F15: 9 | G15: 3 | H15: 2 | I15: 5 | J15: 5 | K15: 6 | L15: 6 | M15: 1 | N15: 1 | O15: 6 | P15: 14 | Q15: 13 | R15: 8 | S15: 1 | T15: 2 | U15: 1 | V15: 5 | W15: 0 | X15: 3 | Y15: 4 | Z15: 6 | AA15: 1 | AB15: 0 | AC15: 22 | AD15: 0 | AE15: 0 | AF15: 0 | AG15: 1 | AH15: 0 | AI15: 21 | AJ15: 1 | AK15: 3 | AL15: 18 | AM15: 3 | AN15: 19 | AO15: 9 | AP15: 9
B16: 0.0251 | C16: 0.0132 | D16: 0.0343 | E16: 0.0217 | F16: 0.0934 | G16: 0.0238 | H16: 0.0132 | I16: 0.013 | J16: 0.0106 | K16: 0.0565 | L16: 0.0374 | M16: 0.0192 | N16: 0.0047 | O16: 0.0321 | P16: 0.0332 | Q16: 0.0292 | R16: 0.0386 | S16: 0.0057 | T16: 0.0357 | U16: 0.0115 | V16: 0.0335 | W16: - | X16: 0.026 | Y16: 0.0371 | Z16: 0.0742 | AA16: 0.014 | AB16: - | AC16: 0.029 | AD16: - | AE16: - | AF16: 0.0086 | AG16: 0.0297 | AH16: - | AI16: 0.0261 | AJ16: 0.0059 | AK16: 0.0149 | AL16: 0.0327 | AM16: 0.0617 | AN16: 0.0246 | AO16: 0.0235 | AP16: 0.0269
A17: Strongly oppose | B17: 7 | C17: 0 | D17: 7 | E17: 0 | F17: 3 | G17: 0 | H17: 1 | I17: 4 | J17: 5 | K17: 2 | L17: 1 | M17: 0 | N17: 4 | O17: 1 | P17: 2 | Q17: 5 | R17: 1 | S17: 2 | T17: 3 | U17: 0 | V17: 1 | W17: 0 | X17: 1 | Y17: 1 | Z17: 1 | AA17: 0 | AB17: 0 | AC17: 7 | AD17: 0 | AE17: 0 | AF17: 4 | AG17: 0 | AH17: 0 | AI17: 4 | AJ17: 4 | AK17: 1 | AL17: 2 | AM17: 4 | AN17: 3 | AO17: 2 | AP17: 0
B18: 0.0083 | C18: 0.001 | D18: 0.014 | E18: - | F18: 0.0311 | G18: - | H18: 0.0039 | I18: 0.0095 | J18: 0.0099 | K18: 0.0143 | L18: 0.0037 | M18: 0.0057 | N18: 0.023 | O18: 0.0032 | P18: 0.0045 | Q18: 0.0106 | R18: 0.0045 | S18: 0.0069 | T18: 0.0455 | U18: 0.0058 | V18: 0.0095 | W18: - | X18: 0.0049 | Y18: 0.0098 | Z18: 0.0075 | AA18: - | AB18: 0.0034 | AC18: 0.0096 | AD18: - | AE18: - | AF18: 0.1757 | AG18: - | AH18: - | AI18: 0.0047 | AJ18: 0.0423 | AK18: 0.0063 | AL18: 0.0028 | AM18: 0.0804 | AN18: 0.0044 | AO18: 0.0055 | AP18: 0.0012
A19: Don’t know | B19: 6 | C19: 2 | D19: 3 | E19: 3 | F19: 0 | G19: 0 | H19: 0 | I19: 2 | J19: 1 | K19: 1 | L19: 0 | M19: 3 | N19: 1 | O19: 0 | P19: 2 | Q19: 4 | R19: 0 | S19: 1 | T19: 0 | U19: 0 | V19: 0 | W19: 0 | X19: 0 | Y19: 2 | Z19: 3 | AA19: 0 | AB19: 0 | AC19: 6 | AD19: 0 | AE19: 0 | AF19: 0 | AG19: 0 | AH19: 0 | AI19: 6 | AJ19: 3 | AK19: 0 | AL19: 2 | AM19: 0 | AN19: 6 | AO19: 0 | AP19: 4
B20: 0.0063 | C20: 0.0062 | D20: 0.0064 | E20: 0.0217 | F20: - | G20: - | H20: - | I20: 0.0064 | J20: 0.0025 | K20: 0.011 | L20: - | M20: 0.0479 | N20: 0.0046 | O20: - | P20: 0.0039 | Q20: 0.0096 | R20: - | S20: 0.0052 | T20: - | U20: - | V20: - | W20: 0.0122 | X20: - | Y20: 0.0207 | Z20: 0.0404 | AA20: - | AB20: - | AC20: 0.0073 | AD20: - | AE20: - | AF20: - | AG20: - | AH20: - | AI20: 0.0069 | AJ20: 0.0305 | AK20: - | AL20: 0.0043 | AM20: - | AN20: 0.0071 | AO20: 0.0011 | AP20: 0.0131
A21: NET: Support | B21: 784 | C21: 352 | D21: 432 | E21: 132 | F21: 79 | G21: 96 | H21: 135 | I21: 343 | J21: 444 | K21: 81 | L21: 158 | M21: 56 | N21: 144 | O21: 170 | P21: 377 | Q21: 403 | R21: 174 | S21: 206 | T21: 63 | U21: 55 | V21: 132 | W21: 32 | X21: 113 | Y21: 83 | Z21: 64 | AA21: 76 | AB21: 55 | AC21: 674 | AD21: 37 | AE21: 60 | AF21: 11 | AG21: 31 | AH21: 26 | AI21: 716 | AJ21: 85 | AK21: 205 | AL21: 494 | AM21: 35 | AN21: 699 | AO21: 345 | AP21: 296
B22: 0.8949 | C22: 0.9143 | D22: 0.8796 | E22: 0.913 | F22: 0.7838 | G22: 0.8764 | H22: 0.9197 | I22: 0.9134 | J22: 0.9245 | K22: 0.7545 | L22: 0.9153 | M22: 0.8498 | N22: 0.8682 | O22: 0.9124 | P22: 0.8984 | Q22: 0.8967 | R22: 0.8948 | S22: 0.8914 | T22: 0.9093 | U22: 0.9159 | V22: 0.8493 | W22: 0.9408 | X22: 0.9397 | Y22: 0.8798 | Z22: 0.8233 | AA22: 0.8841 | AB22: 0.915 | AC22: 0.8889 | AD22: 0.863 | AE22: 1 | AF22: 0.5502 | AG22: 0.899 | AH22: 0.9931 | AI22: 0.9001 | AJ22: 0.8264 | AK22: 0.9226 | AL22: 0.8965 | AM22: 0.7357 | AN22: 0.904 | AO22: 0.9081 | AP22: 0.8956
A23: NET: Oppose | B23: 29 | C23: 5 | D23: 24 | E23: 3 | F23: 13 | G23: 3 | H23: 3 | I23: 8 | J23: 10 | K23: 8 | L23: 7 | M23: 2 | N23: 5 | O23: 7 | P23: 16 | Q23: 18 | R23: 8 | S23: 3 | T23: 6 | U23: 1 | V23: 7 | W23: 0 | X23: 4 | Y23: 4 | Z23: 6 | AA23: 1 | AB23: 0 | AC23: 29 | AD23: 0 | AE23: 0 | AF23: 4 | AG23: 1 | AH23: 0 | AI23: 25 | AJ23: 5 | AK23: 5 | AL23: 20 | AM23: 7 | AN23: 22 | AO23: 11 | AP23: 9
B24: 0.0334 | C24: 0.0142 | D24: 0.0484 | E24: 0.0217 | F24: 0.1245 | G24: 0.0238 | H24: 0.0172 | I24: 0.0224 | J24: 0.0205 | K24: 0.0707 | L24: 0.0411 | M24: 0.0249 | N24: 0.0277 | O24: 0.0352 | P24: 0.0377 | Q24: 0.0398 | R24: 0.0431 | S24: 0.0126 | T24: 0.0812 | U24: 0.0173 | V24: 0.043 | W24: - | X24: 0.0309 | Y24: 0.0469 | Z24: 0.0817 | AA24: 0.014 | AB24: 0.0034 | AC24: 0.0385 | AD24: - | AE24: - | AF24: 0.1843 | AG24: 0.0297 | AH24: - | AI24: 0.0308 | AJ24: 0.0482 | AK24: 0.0212 | AL24: 0.0355 | AM24: 0.1421 | AN24: 0.029 | AO24: 0.029 | AP24: 0.0281
A26: NET: Difference | B26: 0.8615 | C26: 0.9001 | D26: 0.8313 | E26: 0.8913 | F26: 0.6592 | G26: 0.8526 | H26: 0.9025 | I26: 0.891 | J26: 0.904 | K26: 0.6838 | L26: 0.8742 | M26: 0.8249 | N26: 0.8405 | O26: 0.8772 | P26: 0.8608 | Q26: 0.8569 | R26: 0.8517 | S26: 0.8788 | T26: 0.8281 | U26: 0.8987 | V26: 0.8063 | W26: 0.9408 | X26: 0.9088 | Y26: 0.8329 | Z26: 0.7416 | AA26: 0.8701 | AB26: 0.9115 | AC26: 0.8504 | AD26: 0.863 | AE26: 1 | AF26: 0.3659 | AG26: 0.8693 | AH26: 0.9931 | AI26: 0.8692 | AJ26: 0.7782 | AK26: 0.9014 | AL26: 0.861 | AM26: 0.5937 | AN26: 0.8751 | AO26: 0.8791 | AP26: 0.8675
A28: =HYPERLINK("#Contents!A1","Contents") -> Contents
A29: Table_Q2. To what extent, if at all, do you support or oppose scrapping gas standing charges from next year? | BF29: Table_Q2
A30: Base: All respondents
B32: Total | C32: Sex | E32: Age | J32: 2020 Leadership Election Vote | M32: Member since | Q32: Involvement | T32: Region | AF32: Highest Qualification | AJ32: Household Income | AM32: EU2016 | AO32: Deputy Leader Vote 2025
C33: Female | D33: Male | E33: 18-34 | F33: 35-44 | G33: 45-54 | H33: 55-64 | I33: 65+ | J33: Keir Starmer | K33: Rebecca Long-Bailey | L33: Lisa Nandy | M33: 2020 | N33: 2015 | O33: 2010 | P33: Before 2010 | Q33: Attends local meetings regularly | R33: Campaigns Occasionally | S33: Does not actively participate | T33: East Midlands | U33: East of England | V33: London | W33: North East | X33: North West | Y33: South East | Z33: South West | AA33: West Midlands | AB33: Yorkshire and The Humber | AC33: England | AD33: Scotland | AE33: Wales | AF33: No Quals/Level 1 | AG33: Level 2/Apprenticeship/Other | AH33: Level 3 | AI33: Level 4+ | AJ33: £0-£19,999 | AK33: £20,000-£39,999 | AL33: £40,000+ | AM33: Leave | AN33: Remain | AO33: Lucy Powell | AP33: Bridget Phillipson
A34: Unweighted Total | B34: 876 | C34: 296 | D34: 580 | E34: 46 | F34: 47 | G34: 58 | H34: 163 | I34: 562 | J34: 501 | K34: 120 | L34: 154 | M34: 52 | N34: 159 | O34: 136 | P34: 490 | Q34: 416 | R34: 193 | S34: 267 | T34: 44 | U34: 64 | V34: 212 | W34: 35 | X34: 102 | Y34: 113 | Z34: 79 | AA34: 57 | AB34: 89 | AC34: 795 | AD34: 36 | AE34: 28 | AF34: 29 | AG34: 31 | AH34: 32 | AI34: 784 | AJ34: 91 | AK34: 237 | AL34: 548 | AM34: 52 | AN34: 790 | AO34: 483 | AP34: 226
A35: Weighted Total | B35: 876 | C35: 385 | D35: 491 | E35: 144 | F35: 101 | G35: 110 | H35: 146 | I35: 375 | J35: 480 | K35: 107 | L35: 172 | M35: 65 | N35: 166 | O35: 187 | P35: 420 | Q35: 449 | R35: 195 | S35: 232 | T35: 69 | U35: 60 | V35: 155 | W35: 34 | X35: 121 | Y35: 95 | Z35: 78 | AA35: 86 | AB35: 60 | AC35: 758 | AD35: 43 | AE35: 60 | AF35: 20 | AG35: 34 | AH35: 27 | AI35: 795 | AJ35: 103 | AK35: 222 | AL35: 551 | AM35: 48 | AN35: 773 | AO35: 380 | AP35: 330
A36: Strongly support | B36: 630 | C36: 280 | D36: 350 | E36: 110 | F36: 60 | G36: 71 | H36: 102 | I36: 288 | J36: 347 | K36: 71 | L36: 124 | M36: 48 | N36: 112 | O36: 139 | P36: 303 | Q36: 336 | R36: 133 | S36: 161 | T36: 48 | U36: 48 | V36: 96 | W36: 25 | X36: 101 | Y36: 62 | Z36: 54 | AA36: 57 | AB36: 46 | AC36: 538 | AD36: 34 | AE36: 48 | AF36: 11 | AG36: 26 | AH36: 22 | AI36: 572 | AJ36: 73 | AK36: 168 | AL36: 389 | AM36: 35 | AN36: 554 | AO36: 301 | AP36: 223
B37: 0.7192 | C37: 0.7273 | D37: 0.7129 | E37: 0.7609 | F37: 0.5962 | G37: 0.6432 | H37: 0.696 | I37: 0.7676 | J37: 0.723 | K37: 0.6619 | L37: 0.7225 | M37: 0.7349 | N37: 0.6784 | O37: 0.7431 | P37: 0.7211 | Q37: 0.7478 | R37: 0.681 | S37: 0.696 | T37: 0.6933 | U37: 0.7991 | V37: 0.6192 | W37: 0.7398 | X37: 0.8411 | Y37: 0.6567 | Z37: 0.6916 | AA37: 0.6669 | AB37: 0.7638 | AC37: 0.71 | AD37: 0.7965 | AE37: 0.7992 | AF37: 0.5524 | AG37: 0.7533 | AH37: 0.8111 | AI37: 0.7189 | AJ37: 0.7099 | AK37: 0.7571 | AL37: 0.7057 | AM37: 0.725 | AN37: 0.7159 | AO37: 0.7925 | AP37: 0.6744
A38: Somewhat support | B38: 168 | C38: 66 | D38: 102 | E38: 22 | F38: 24 | G38: 33 | H38: 30 | I38: 59 | J38: 89 | K38: 25 | L38: 34 | M38: 10 | N38: 39 | O38: 34 | P38: 76 | Q38: 70 | R38: 48 | S38: 50 | T38: 12 | U38: 7 | V38: 38 | W38: 9 | X38: 13 | Y38: 28 | Z38: 10 | AA38: 22 | AB38: 11 | AC38: 151 | AD38: 4 | AE38: 10 | AF38: 4 | AG38: 4 | AH38: 5 | AI38: 155 | AJ38: 20 | AK38: 38 | AL38: 109 | AM38: 3 | AN38: 158 | AO38: 57 | AP38: 79
B39: 0.1917 | C39: 0.1722 | D39: 0.207 | E39: 0.1522 | F39: 0.2343 | G39: 0.3018 | H39: 0.2077 | I39: 0.157 | J39: 0.1851 | K39: 0.2382 | L39: 0.1981 | M39: 0.1546 | N39: 0.2328 | O39: 0.1815 | P39: 0.1808 | Q39: 0.1558 | R39: 0.2478 | S39: 0.2141 | T39: 0.1735 | U39: 0.1181 | V39: 0.248 | W39: 0.2525 | X39: 0.1094 | Y39: 0.2938 | Z39: 0.131 | AA39: 0.2561 | AB39: 0.1856 | AC39: 0.1988 | AD39: 0.0936 | AE39: 0.1674 | AF39: 0.1781 | AG39: 0.1307 | AH39: 0.1746 | AI39: 0.1952 | AJ39: 0.1963 | AK39: 0.1725 | AL39: 0.1986 | AM39: 0.0721 | AN39: 0.2038 | AO39: 0.1512 | AP39: 0.2379
A40: Neither support nor oppose | B40: 37 | C40: 21 | D40: 15 | E40: 6 | F40: 5 | G40: 2 | H40: 8 | I40: 16 | J40: 25 | K40: 0 | L40: 3 | M40: 6 | N40: 6 | O40: 7 | P40: 16 | Q40: 21 | R40: 7 | S40: 8 | T40: 1 | U40: 3 | V40: 15 | W40: 0 | X40: 1 | Y40: 1 | Z40: 4 | AA40: 4 | AB40: 2 | AC40: 32 | AD40: 1 | AE40: 2 | AF40: 1 | AG40: 3 | AH40: 0 | AI40: 32 | AJ40: 4 | AK40: 4 | AL40: 29 | AM40: 3 | AN40: 31 | AO40: 9 | AP40: 17
B41: 0.0421 | C41: 0.0557 | D41: 0.0314 | E41: 0.0435 | F41: 0.0451 | G41: 0.0216 | H41: 0.0538 | I41: 0.0422 | J41: 0.0512 | K41: 0.0025 | L41: 0.0195 | M41: 0.096 | N41: 0.0381 | O41: 0.039 | P41: 0.0385 | Q41: 0.0474 | R41: 0.0367 | S41: 0.0363 | T41: 0.0131 | U41: 0.0524 | V41: 0.0954 | W41: 0.0077 | X41: 0.0078 | Y41: 0.011 | Z41: 0.0561 | AA41: 0.0494 | AB41: 0.0302 | AC41: 0.0416 | AD41: 0.0265 | AE41: 0.0334 | AF41: 0.0746 | AG41: 0.0916 | AH41: - | AI41: 0.0405 | AJ41: 0.0391 | AK41: 0.0188 | AL41: 0.052 | AM41: 0.059 | AN41: 0.04 | AO41: 0.0228 | AP41: 0.0515
A42: Somewhat oppose | B42: 10 | C42: 3 | D42: 7 | E42: 0 | F42: 3 | G42: 0 | H42: 3 | I42: 4 | J42: 7 | K42: 2 | L42: 1 | M42: 0 | N42: 2 | O42: 0 | P42: 8 | Q42: 2 | R42: 4 | S42: 3 | T42: 0 | U42: 1 | V42: 2 | W42: 0 | X42: 0 | Y42: 1 | Z42: 3 | AA42: 1 | AB42: 1 | AC42: 9 | AD42: 1 | AE42: 0 | AF42: 0 | AG42: 0 | AH42: 0 | AI42: 9 | AJ42: 2 | AK42: 2 | AL42: 6 | AM42: 0 | AN42: 10 | AO42: 2 | AP42: 4
B43: 0.0113 | C43: 0.008 | D43: 0.0139 | E43: - | F43: 0.0311 | G43: - | H43: 0.0186 | I43: 0.0108 | J43: 0.0142 | K43: 0.0201 | L43: 0.0039 | M43: 0.0036 | N43: 0.0129 | O43: - | P43: 0.0179 | Q43: 0.0048 | R43: 0.023 | S43: 0.0141 | T43: - | U43: 0.0177 | V43: 0.013 | W43: - | X43: - | Y43: 0.0098 | Z43: 0.0404 | AA43: 0.0109 | AB43: 0.0115 | AC43: 0.0116 | AD43: 0.0259 | AE43: - | AF43: 0.0193 | AG43: - | AH43: 0.0143 | AI43: 0.0115 | AJ43: 0.0146 | AK43: 0.0096 | AL43: 0.0113 | AM43: 0.006 | AN43: 0.0124 | AO43: 0.0058 | AP43: 0.0106
A44: Strongly oppose | B44: 17 | C44: 3 | D44: 14 | E44: 3 | F44: 6 | G44: 1 | H44: 1 | I44: 6 | J44: 8 | K44: 5 | L44: 3 | M44: 1 | N44: 6 | O44: 1 | P44: 10 | Q44: 14 | R44: 2 | S44: 1 | T44: 5 | U44: 1 | V44: 4 | W44: 0 | X44: 4 | Y44: 2 | Z44: 0 | AA44: 1 | AB44: 1 | AC44: 17 | AD44: 0 | AE44: 0 | AF44: 4 | AG44: 1 | AH44: 0 | AI44: 13 | AJ44: 4 | AK44: 3 | AL44: 10 | AM44: 4 | AN44: 10 | AO44: 6 | AP44: 4
...
