Workbook

Sheet Cover sheet and methodology
A1: Holborn and St Pancras Constituency Poll 6th October 2026
A2: Conducted by Survation on behalf of Dale Vince
A8: Methodology
A10: Fieldwork Dates | F10: Data Weighting
A11: 29th September - 6th October 2026 | F11: Data were weighted to the profile of all adults in Holborn and St Pancras aged 18+. Data were weighted by age, sex, ward, ethnicity, highest level of qualification, 2024 General Election vote and May 2026 Camden Council election vote.
F12: Targets for the weighted data were derived from the 2021 Census (Office for National Statistics), the results of the 2024 UK General Election and the results of the May 2026 Camden Council elections.
A13: Data Collection Method
A14: The survey was conducted via telephone interview and online panel. | F14: Margin of Error
A15: Telephone interviews used a combination of landline and mobile data. | F15: Because only a sample of the full population was interviewed, all results are subject to margin of error, meaning that not all differences are statistically significant.
F16: For example, in a question where 50% (the worst case scenario as far as margin of error is concerned) gave a particular answer, with a sample of 504 it is 95% certain that the ‘true’ value will fall within the range of 5.8% from the sample result.
A17: Population Sampled
A18: All residents aged 18+ living in the | F18: Question presentation
A19: Holborn and St Pancras parliamentary constituency | F19: All data tables are shown in full, in the order and wording put to respondents, including but not limited to all tables relating to published data and all relevant tables preceding them.
F20: Tables for demographic questions might not be included but these should be clear from the cross-breaks on published tables.
F21: In all questions where the responses are a list of parties, names or statements, these will typically have been displayed to respondents in a randomising order.
F22: The only questions which would not have had randomising responses would be those in which there was a natural order to maintain or those in which respondents answer on a scale. The order of these questions from positive to negative and vice-versa is alternated for respondents.
A23: Sample Size | F23: – e.g. a list of numbers from 0 to 10 or questions which had factual rather than opinion-related answers such as demographic information. “Other”, “Don't know” and “Refused” responses are not randomised.
A24: 504
F25: Not all questions will have necessarily been asked to all respondents – this is because they may be follow-on questions from previous questions or only appropriate to certain demographic groups.
F26: Lower response counts should make clear where this has occurred.
F28: Data were analysed and weighted by Survation.
F30: For further information please contact:
F31: researchteam@survation.com
F33: If you are interested in commissioning a poll from us, please contact researchteam@survation.com for a prompt response to your enquiry.
F36: Sign up for our press releases at http://eepurl.com/mOK8T
F38: Follow us on twitter: @Survation
F40: Survation is a Market Research Society company partner. Survation is a member of the British Polling Council and abides by its rules.
F41: http://www.britishpollingcouncil.org
F42: Survation Ltd Registered in England & Wales Number 07143509

Sheet Contents
A1: Table | B1: Question | C1: Base
A2: =HYPERLINK("#Tables!" & ADDRESS(MATCH(D2,Tables!BB:BB,0),1),D2) -> Table_V1 | B2: As you may know, there is a parliamentary by-election in Holborn and St Pancras on Thursday 8 October to elect a new MP. On a scale of 0-10 where 0 means you would not vote and 10 means you are certain to vote, how likely would you be to vote in the by-election? | C2: All respondents | D2: Table_V1
A3: =HYPERLINK("#Tables!" & ADDRESS(MATCH(D3,Tables!BB:BB,0),1),D3) -> Table_V2_1 | B3: For which of the following candidates are you most likely to vote in the by-election? (Postal voters: for which candidate did you vote?) | C3: Respondents who are likely to vote 1-10 (inc. already voted by post) | D3: Table_V2_1
A4: =HYPERLINK("#Tables!" & ADDRESS(MATCH(D4,Tables!BB:BB,0),1),D4) -> Table_V2_2 | B4: For which of the following candidates are you most likely to vote in the by-election? (Postal voters: for which candidate did you vote?) | C4: Respondents who are likely to vote 1-10, weighted by likelihood to vote | D4: Table_V2_2
A5: =HYPERLINK("#Tables!" & ADDRESS(MATCH(D5,Tables!BB:BB,0),1),D5) -> Table_V2 | B5: For which of the following candidates are you most likely to vote in the by-election? (Postal voters: for which candidate did you vote?) | C5: Respondents who are likely to vote 1-10, weighted by likelihood to vote, undecided, would not vote and refused removed | D5: Table_V2
A6: =HYPERLINK("#Tables!" & ADDRESS(MATCH(D6,Tables!BB:BB,0),1),D6) -> Table_V3 | B6: Whilst you are undecided, is there a candidate you are leaning towards the most? | C6: Respondents who are undecided | D6: Table_V3
A7: =HYPERLINK("#Tables!" & ADDRESS(MATCH(D7,Tables!BB:BB,0),1),D7) -> Table_VX | B7: For which of the following candidates are you most likely to vote in the by-election? (Postal voters: for which candidate did you vote?) (with undecided respondents allocated to the candidate they are leaning towards) | C7: Respondents who are likely to vote 1-10, weighted by likelihood to vote, undecided, would not vote and refused removed | D7: Table_VX
A8: =HYPERLINK("#Tables!" & ADDRESS(MATCH(D8,Tables!BB:BB,0),1),D8) -> Table_Q1 | B8: Regardless of who you would vote for, which party or candidate do you think is most likely to win the by-election? | C8: All respondents | D8: Table_Q1
A9: =HYPERLINK("#Tables!" & ADDRESS(MATCH(D9,Tables!BB:BB,0),1),D9) -> Table_Q2 | B9: What is the top issue that will influence your voting decision in the by-election? | C9: All respondents | D9: Table_Q2
A10: =HYPERLINK("#Tables!" & ADDRESS(MATCH(D10,Tables!BB:BB,0),1),D10) -> Table_Q3_1 | B10: Sagal Abdi-Wali, Leader of Camden Council and the Labour candidate in the by-election - How favourable or unfavourable is your view of each of the following, or do you not know them well enough to say? | C10: All respondents | D10: Table_Q3_1
A11: =HYPERLINK("#Tables!" & ADDRESS(MATCH(D11,Tables!BB:BB,0),1),D11) -> Table_Q3_2 | B11: Zack Polanski, Leader of the Green Party and the Green Party candidate in the by-election - How favourable or unfavourable is your view of each of the following, or do you not know them well enough to say? | C11: All respondents | D11: Table_Q3_2
A12: =HYPERLINK("#Tables!" & ADDRESS(MATCH(D12,Tables!BB:BB,0),1),D12) -> Table_Q3_3 | B12: Andy Burnham, the Prime Minister - How favourable or unfavourable is your view of each of the following, or do you not know them well enough to say? | C12: All respondents | D12: Table_Q3_3
A13: =HYPERLINK("#Tables!" & ADDRESS(MATCH(D13,Tables!BB:BB,0),1),D13) -> Table_Q3_4 | B13: Kemi Badenoch, Leader of the Conservative Party - How favourable or unfavourable is your view of each of the following, or do you not know them well enough to say? | C13: All respondents | D13: Table_Q3_4
... A23: =HYPERLINK("#Tables!" & ADDRESS(MATCH(D23,Tables!BB:BB,0),1),D23) -> Table_Q5.Summary | B23: How much difference, if any, do you think the result of this by-election will make to each of the following? | C23: All respondents | D23: Table_Q5.Summary

Sheet Tables
A1: =HYPERLINK("#Contents!A1", "Contents") -> Contents
A2: Table_V1. As you may know, there is a parliamentary by-election in Holborn and St Pancras on Thursday 8 October to elect a new MP. On a scale of 0-10 where 0 means you would not vote and 10 means you are certain to vote, how likely would you be to vote in the by-election? | BB2: =LEFT(A2, FIND(" ", A2) - 2) -> Table_V1
A3: Base: All respondents
B5: Total | C5: Sex | E5: Age | H5: Ward group | L5: Ethnicity | O5: Education | Q5: Tenure | T5: GE2024 vote | X5: Local 2026 vote | AA5: EU Ref 2016 | AC5: By-election VI
C6: Female | D6: Male | E6: 18-34 | F6: 35-54 | G6: 55+ | H6: South | I6: King's Cross & Regent's Park | J6: Haverstock & Primrose Hill | K6: Camden & Kentish Town | L6: White | M6: Asian | N6: Black / Mixed / Other | O6: Below degree | P6: Degree (Level 4+) | Q6: Owner | R6: Social renter | S6: Private renter | T6: Labour | U6: Ind. - Feinstein | V6: Green | W6: Other | X6: Labour | Y6: Green | Z6: Other | AA6: Remain | AB6: Leave | AC6: Labour - Abdi-Wali | AD6: Green - Polanski | AE6: Reform - Newman | AF6: Other | AG6: Undecided
A7: Unweighted Total | B7: 504 | C7: 252 | D7: 252 | E7: 145 | F7: 182 | G7: 177 | H7: 126 | I7: 126 | J7: 68 | K7: 184 | L7: 259 | M7: 95 | N7: 99 | O7: 201 | P7: 254 | Q7: 134 | R7: 203 | S7: 56 | T7: 191 | U7: 20 | V7: 32 | W7: 72 | X7: 142 | Y7: 68 | Z7: 83 | AA7: 204 | AB7: 89 | AC7: 140 | AD7: 92 | AE7: 34 | AF7: 49 | AG7: 95
A8: Weighted Total | B8: 504 | C8: 267 | D8: 237 | E8: 231 | F8: 150 | G8: 123 | H8: 109 | I8: 168 | J8: 79 | K8: 149 | L8: 256 | M8: 99 | N8: 92 | O8: 213 | P8: 246 | Q8: 118 | R8: 186 | S8: 56 | T8: 154 | U8: 60 | V8: 33 | W8: 68 | X8: 112 | Y8: 85 | Z8: 95 | AA8: 175 | AB8: 75 | AC8: 128 | AD8: 101 | AE8: 27 | AF8: 59 | AG8: 108
A9: 0 - Would not vote | B9: 64 | C9: 34 | D9: 30 | E9: 32 | F9: 26 | G9: 7 | H9: 15 | I9: 17 | J9: 12 | K9: 20 | L9: 26 | M9: 15 | N9: 12 | O9: 33 | P9: 21 | Q9: 9 | R9: 26 | S9: 13 | T9: 4 | U9: 0 | V9: 4 | W9: 4 | X9: 2 | Y9: 3 | Z9: 3 | AA9: 9 | AB9: 12 | AC9: 0 | AD9: 0 | AE9: 0 | AF9: 0 | AG9: 0
B10: 0.1276 | C10: 0.1274 | D10: 0.1278 | E10: 0.1371 | F10: 0.1713 | G10: 0.0566 | H10: 0.1423 | I10: 0.1018 | J10: 0.1537 | K10: 0.1323 | L10: 0.1 | M10: 0.1538 | N10: 0.1286 | O10: 0.1573 | P10: 0.0872 | Q10: 0.0786 | R10: 0.1405 | S10: 0.2286 | T10: 0.0283 | U10: - | V10: 0.1207 | W10: 0.0564 | X10: 0.0192 | Y10: 0.0368 | Z10: 0.0309 | AA10: 0.0509 | AB10: 0.1655 | AC10: - | AD10: - | AE10: - | AF10: - | AG10: -
A11: 1 | B11: 6 | C11: 5 | D11: 1 | E11: 5 | F11: 0 | G11: 1 | H11: 5 | I11: 1 | J11: 0 | K11: 0 | L11: 6 | M11: 0 | N11: 0 | O11: 5 | P11: 1 | Q11: 0 | R11: 6 | S11: 0 | T11: 1 | U11: 0 | V11: 0 | W11: 0 | X11: 0 | Y11: 0 | Z11: 5 | AA11: 1 | AB11: 0 | AC11: 0 | AD11: 0 | AE11: 0 | AF11: 6 | AG11: 0
B12: 0.0111 | C12: 0.0187 | D12: 0.0024 | E12: 0.0216 | F12: - | G12: 0.0047 | H12: 0.046 | I12: 0.0034 | J12: - | K12: - | L12: 0.0218 | M12: - | N12: - | O12: 0.0235 | P12: 0.0023 | Q12: - | R12: 0.0299 | S12: - | T12: 0.0037 | U12: - | V12: - | W12: - | X12: - | Y12: - | Z12: 0.0524 | AA12: 0.0033 | AB12: - | AC12: - | AD12: - | AE12: - | AF12: 0.095 | AG12: -
A13: 2 | B13: 6 | C13: 1 | D13: 4 | E13: 4 | F13: 0 | G13: 1 | H13: 1 | I13: 4 | J13: 0 | K13: 1 | L13: 3 | M13: 2 | N13: 0 | O13: 2 | P13: 4 | Q13: 3 | R13: 2 | S13: 1 | T13: 3 | U13: 0 | V13: 1 | W13: 1 | X13: 0 | Y13: 0 | Z13: 3 | AA13: 1 | AB13: 1 | AC13: 4 | AD13: 1 | AE13: 0 | AF13: 0 | AG13: 0
B14: 0.0111 | C14: 0.0042 | D14: 0.0187 | E14: 0.018 | F14: 0.0014 | G14: 0.0098 | H14: 0.0092 | I14: 0.0214 | J14: 0.0026 | K14: 0.0052 | L14: 0.0133 | M14: 0.0176 | N14: 0.0045 | O14: 0.0085 | P14: 0.0153 | Q14: 0.0228 | R14: 0.0097 | S14: 0.009 | T14: 0.0175 | U14: - | V14: 0.0172 | W14: 0.0136 | X14: - | Y14: 0.0025 | Z14: 0.0342 | AA14: 0.004 | AB14: 0.017 | AC14: 0.0283 | AD14: 0.0145 | AE14: 0.0079 | AF14: - | AG14: 0.0027
A15: 3 | B15: 1 | C15: 1 | D15: 0 | E15: 0 | F15: 1 | G15: 0 | H15: 0 | I15: 1 | J15: 0 | K15: 0 | L15: 1 | M15: 0 | N15: 0 | O15: 1 | P15: 0 | Q15: 0 | R15: 1 | S15: 0 | T15: 0 | U15: 0 | V15: 0 | W15: 0 | X15: 0 | Y15: 0 | Z15: 0 | AA15: 0 | AB15: 0 | AC15: 0 | AD15: 0 | AE15: 0 | AF15: 1 | AG15: 0
B16: 0.0022 | C16: 0.0042 | D16: - | E16: - | F16: 0.0044 | G16: 0.0037 | H16: - | I16: 0.0066 | J16: - | K16: - | L16: 0.0026 | M16: - | N16: 0.0049 | O16: 0.0031 | P16: 0.0018 | Q16: - | R16: 0.006 | S16: - | T16: 0.0029 | U16: - | V16: - | W16: - | X16: - | Y16: - | Z16: 0.0048 | AA16: - | AB16: - | AC16: - | AD16: - | AE16: - | AF16: 0.0112 | AG16: 0.0042
A17: 4 | B17: 8 | C17: 4 | D17: 4 | E17: 7 | F17: 1 | G17: 1 | H17: 0 | I17: 8 | J17: 0 | K17: 1 | L17: 3 | M17: 0 | N17: 5 | O17: 3 | P17: 5 | Q17: 0 | R17: 0 | S17: 3 | T17: 5 | U17: 0 | V17: 0 | W17: 0 | X17: 2 | Y17: 0 | Z17: 0 | AA17: 1 | AB17: 1 | AC17: 7 | AD17: 1 | AE17: 1 | AF17: 0 | AG17: 0
B18: 0.0162 | C18: 0.0155 | D18: 0.0171 | E18: 0.0284 | F18: 0.004 | G18: 0.0082 | H18: - | I18: 0.0451 | J18: - | K18: 0.004 | L18: 0.0111 | M18: - | N18: 0.0512 | O18: 0.0154 | P18: 0.0199 | Q18: - | R18: - | S18: 0.0547 | T18: 0.0317 | U18: - | V18: - | W18: - | X18: 0.015 | Y18: - | Z18: - | AA18: 0.0034 | AB18: 0.0133 | AC18: 0.0515 | AD18: 0.0059 | AE18: 0.0371 | AF18: - | AG18: -
A19: 5 | B19: 35 | C19: 20 | D19: 15 | E19: 20 | F19: 13 | G19: 2 | H19: 4 | I19: 10 | J19: 4 | K19: 16 | L19: 21 | M19: 7 | N19: 3 | O19: 21 | P19: 13 | Q19: 4 | R19: 10 | S19: 7 | T19: 11 | U19: 0 | V19: 2 | W19: 6 | X19: 6 | Y19: 2 | Z19: 5 | AA19: 10 | AB19: 0 | AC19: 7 | AD19: 3 | AE19: 2 | AF19: 4 | AG19: 18
B20: 0.0693 | C20: 0.0755 | D20: 0.0623 | E20: 0.0864 | F20: 0.0838 | G20: 0.0195 | H20: 0.0401 | I20: 0.0624 | J20: 0.0525 | K20: 0.1072 | L20: 0.0808 | M20: 0.0654 | N20: 0.036 | O20: 0.1007 | P20: 0.0513 | Q20: 0.031 | R20: 0.0563 | S20: 0.122 | T20: 0.0697 | U20: - | V20: 0.0564 | W20: 0.0892 | X20: 0.0534 | Y20: 0.0277 | Z20: 0.0533 | AA20: 0.0562 | AB20: - | AC20: 0.0571 | AD20: 0.0346 | AE20: 0.0729 | AF20: 0.0697 | AG20: 0.1679
A21: 6 | B21: 11 | C21: 8 | D21: 3 | E21: 9 | F21: 1 | G21: 1 | H21: 1 | I21: 6 | J21: 1 | K21: 3 | L21: 3 | M21: 4 | N21: 3 | O21: 7 | P21: 4 | Q21: 2 | R21: 4 | S21: 1 | T21: 1 | U21: 0 | V21: 3 | W21: 0 | X21: 3 | Y21: 1 | Z21: 3 | AA21: 0 | AB21: 1 | AC21: 2 | AD21: 5 | AE21: 0 | AF21: 2 | AG21: 2
B22: 0.0221 | C22: 0.029 | D22: 0.0144 | E22: 0.0406 | F22: 0.0041 | G22: 0.0092 | H22: 0.0114 | I22: 0.0358 | J22: 0.0079 | K22: 0.022 | L22: 0.013 | M22: 0.0417 | N22: 0.0333 | O22: 0.033 | P22: 0.0143 | Q22: 0.0181 | R22: 0.0193 | S22: 0.0197 | T22: 0.0079 | U22: - | V22: 0.0835 | W22: 0.0047 | X22: 0.0289 | Y22: 0.0108 | Z22: 0.0322 | AA22: - | AB22: 0.0125 | AC22: 0.0159 | AD22: 0.0519 | AE22: 0.0119 | AF22: 0.0346 | AG22: 0.0143
A23: 7 | B23: 27 | C23: 17 | D23: 10 | E23: 18 | F23: 5 | G23: 5 | H23: 8 | I23: 10 | J23: 3 | K23: 6 | L23: 11 | M23: 9 | N23: 4 | O23: 14 | P23: 10 | Q23: 3 | R23: 12 | S23: 2 | T23: 8 | U23: 4 | V23: 2 | W23: 1 | X23: 6 | Y23: 5 | Z23: 7 | AA23: 8 | AB23: 1 | AC23: 4 | AD23: 6 | AE23: 3 | AF23: 7 | AG23: 7
B24: 0.0535 | C24: 0.0628 | D24: 0.043 | E24: 0.0758 | F24: 0.0329 | G24: 0.0367 | H24: 0.0733 | I24: 0.058 | J24: 0.0439 | K24: 0.0391 | L24: 0.0419 | M24: 0.0929 | N24: 0.0422 | O24: 0.066 | P24: 0.0399 | Q24: 0.0281 | R24: 0.0653 | S24: 0.0372 | T24: 0.0529 | U24: 0.0648 | V24: 0.0529 | W24: 0.0104 | X24: 0.0496 | Y24: 0.0603 | Z24: 0.0683 | AA24: 0.0474 | AB24: 0.0109 | AC24: 0.0345 | AD24: 0.0592 | AE24: 0.1078 | AF24: 0.121 | AG24: 0.0609
A25: 8 | B25: 32 | C25: 20 | D25: 12 | E25: 19 | F25: 9 | G25: 5 | H25: 4 | I25: 15 | J25: 5 | K25: 8 | L25: 10 | M25: 9 | N25: 11 | O25: 13 | P25: 17 | Q25: 6 | R25: 13 | S25: 2 | T25: 5 | U25: 5 | V25: 1 | W25: 4 | X25: 9 | Y25: 4 | Z25: 5 | AA25: 7 | AB25: 5 | AC25: 9 | AD25: 6 | AE25: 0 | AF25: 3 | AG25: 12
B26: 0.0633 | C26: 0.0736 | D26: 0.0517 | E26: 0.0811 | F26: 0.0569 | G26: 0.0375 | H26: 0.0327 | I26: 0.0876 | J26: 0.0685 | K26: 0.0554 | L26: 0.0402 | M26: 0.0935 | N26: 0.1227 | O26: 0.0596 | P26: 0.0705 | Q26: 0.051 | R26: 0.0716 | S26: 0.0283 | T26: 0.0348 | U26: 0.0838 | V26: 0.0411 | W26: 0.0577 | X26: 0.0823 | Y26: 0.0423 | Z26: 0.0512 | AA26: 0.038 | AB26: 0.0615 | AC26: 0.0711 | AD26: 0.0563 | AE26: 0.0131 | AF26: 0.0465 | AG26: 0.1091
A27: 9 | B27: 27 | C27: 12 | D27: 15 | E27: 10 | F27: 13 | G27: 4 | H27: 10 | I27: 7 | J27: 5 | K27: 5 | L27: 14 | M27: 2 | N27: 8 | O27: 14 | P27: 13 | Q27: 5 | R27: 13 | S27: 4 | T27: 8 | U27: 3 | V27: 0 | W27: 6 | X27: 5 | Y27: 9 | Z27: 5 | AA27: 13 | AB27: 2 | AC27: 7 | AD27: 10 | AE27: 0 | AF27: 4 | AG27: 6
B28: 0.0539 | C28: 0.0452 | D28: 0.0636 | E28: 0.0419 | F28: 0.088 | G28: 0.0349 | H28: 0.0875 | I28: 0.042 | J28: 0.0683 | K28: 0.0352 | L28: 0.0544 | M28: 0.0171 | N28: 0.0888 | O28: 0.0645 | P28: 0.0546 | Q28: 0.0385 | R28: 0.0722 | S28: 0.0694 | T28: 0.0495 | U28: 0.0433 | V28: 0.007 | W28: 0.0827 | X28: 0.0403 | Y28: 0.1011 | Z28: 0.0559 | AA28: 0.0714 | AB28: 0.02 | AC28: 0.0562 | AD28: 0.0955 | AE28: - | AF28: 0.0606 | AG28: 0.0571
A29: 10 - Certain to vote | B29: 256 | C29: 131 | D29: 125 | E29: 98 | F29: 75 | G29: 83 | H29: 51 | I29: 86 | J29: 41 | K29: 79 | L29: 149 | M29: 43 | N29: 37 | O29: 87 | P29: 146 | Q29: 81 | R29: 82 | S29: 21 | T29: 96 | U29: 48 | V29: 19 | W29: 44 | X29: 69 | Y29: 55 | Z29: 54 | AA29: 116 | AB29: 48 | AC29: 79 | AD29: 60 | AE29: 18 | AF29: 32 | AG29: 59
B30: 0.508 | C30: 0.4924 | D30: 0.5256 | E30: 0.4241 | F30: 0.5042 | G30: 0.6702 | H30: 0.4664 | I30: 0.5094 | J30: 0.5249 | K30: 0.5279 | L30: 0.5818 | M30: 0.4369 | N30: 0.4039 | O30: 0.4092 | P30: 0.5922 | Q30: 0.687 | R30: 0.4391 | S30: 0.3819 | T30: 0.6237 | U30: 0.8081 | V30: 0.5642 | W30: 0.6393 | X30: 0.6155 | Y30: 0.6496 | Z30: 0.5625 | AA30: 0.6609 | AB30: 0.6407 | AC30: 0.6157 | AD30: 0.5987 | AE30: 0.6545 | AF30: 0.5481 | AG30: 0.5453
A31: Already voted by post | B31: 14 | C31: 4 | D31: 11 | E31: 2 | F31: 5 | G31: 8 | H31: 6 | I31: 2 | J31: 2 | K31: 4 | L31: 7 | M31: 2 | N31: 5 | O31: 7 | P31: 7 | Q31: 5 | R31: 8 | S31: 2 | T31: 9 | U31: 0 | V31: 1 | W31: 2 | X31: 6 | Y31: 4 | Z31: 5 | AA31: 7 | AB31: 3 | AC31: 5 | AD31: 4 | AE31: 3 | AF31: 0 | AG31: 0
B32: 0.0285 | C32: 0.0134 | D32: 0.0453 | E32: 0.0089 | F32: 0.0302 | G32: 0.0631 | H32: 0.0572 | I32: 0.0113 | J32: 0.0258 | K32: 0.0283 | L32: 0.0273 | M32: 0.0181 | N32: 0.0516 | O32: 0.0338 | P32: 0.029 | Q32: 0.04 | R32: 0.0406 | S32: 0.0368 | T32: 0.058 | U32: - | V32: 0.0396 | W32: 0.0361 | X32: 0.0518 | Y32: 0.0465 | Z32: 0.0478 | AA32: 0.0379 | AB32: 0.045 | AC32: 0.0395 | AD32: 0.0368 | AE32: 0.0947 | AF32: 0.0074 | AG32: -
A33: Don't know / Refused | B33: 17 | C33: 10 | D33: 7 | E33: 8 | F33: 3 | G33: 6 | H33: 4 | I33: 3 | J33: 4 | K33: 6 | L33: 3 | M33: 6 | N33: 3 | O33: 5 | P33: 5 | Q33: 1 | R33: 9 | S33: 1 | T33: 3 | U33: 0 | V33: 1 | W33: 1 | X33: 5 | Y33: 2 | Z33: 1 | AA33: 5 | AB33: 1 | AC33: 4 | AD33: 5 | AE33: 0 | AF33: 0 | AG33: 4
B34: 0.0333 | C34: 0.0381 | D34: 0.0279 | E34: 0.036 | F34: 0.0186 | G34: 0.0461 | H34: 0.0338 | I34: 0.0153 | J34: 0.052 | K34: 0.0434 | L34: 0.012 | M34: 0.063 | N34: 0.0323 | O34: 0.0255 | P34: 0.0216 | Q34: 0.0048 | R34: 0.0494 | S34: 0.0124 | T34: 0.0193 | U34: - | V34: 0.0174 | W34: 0.0099 | X34: 0.0441 | Y34: 0.0226 | Z34: 0.0066 | AA34: 0.0265 | AB34: 0.0136 | AC34: 0.0302 | AD34: 0.0464 | AE34: - | AF34: 0.0059 | AG34: 0.0386
A36: =HYPERLINK("#Contents!A1", "Contents") -> Contents
A37: Table_V2_1. For which of the following candidates are you most likely to vote in the by-election? (Postal voters: for which candidate did you vote?) | BB37: =LEFT(A37, FIND(" ", A37) - 2) -> Table_V2_1
A38: Base: Respondents who are likely to vote 1-10 (inc. already voted by post)
B40: Total | C40: Sex | E40: Age | H40: Ward group | L40: Ethnicity | O40: Education | Q40: Tenure | T40: GE2024 vote | X40: Local 2026 vote | AA40: EU Ref 2016 | AC40: By-election VI
C41: Female | D41: Male | E41: 18-34 | F41: 35-54 | G41: 55+ | H41: South | I41: King's Cross & Regent's Park | J41: Haverstock & Primrose Hill | K41: Camden & Kentish Town | L41: White | M41: Asian | N41: Black / Mixed / Other | O41: Below degree | P41: Degree (Level 4+) | Q41: Owner | R41: Social renter | S41: Private renter | T41: Labour | U41: Ind. - Feinstein | V41: Green | W41: Other | X41: Labour | Y41: Green | Z41: Other | AA41: Remain | AB41: Leave | AC41: Labour - Abdi-Wali | AD41: Green - Polanski | AE41: Reform - Newman | AF41: Other | AG41: Undecided
A42: Unweighted Total | B42: 436 | C42: 222 | D42: 214 | E42: 121 | F42: 151 | G42: 164 | H42: 111 | I42: 110 | J42: 58 | K42: 157 | L42: 232 | M42: 76 | N42: 86 | O42: 164 | P42: 233 | Q42: 124 | R42: 174 | S42: 45 | T42: 182 | U42: 20 | V42: 28 | W42: 68 | X42: 138 | Y42: 64 | Z42: 81 | AA42: 192 | AB42: 76 | AC42: 140 | AD42: 92 | AE42: 34 | AF42: 49 | AG42: 95
A43: Weighted Total | B43: 440 | C43: 233 | D43: 207 | E43: 200 | F43: 124 | G43: 116 | H43: 93 | I43: 151 | J43: 66 | K43: 129 | L43: 231 | M43: 84 | N43: 80 | O43: 179 | P43: 224 | Q43: 109 | R43: 160 | S43: 43 | T43: 150 | U43: 60 | V43: 29 | W43: 65 | X43: 110 | Y43: 82 | Z43: 92 | AA43: 167 | AB43: 63 | AC43: 128 | AD43: 101 | AE43: 27 | AF43: 59 | AG43: 108
...
